BEGIN:VCALENDAR
VERSION:2.0
PRODID:-//Ould Newbury Golf Club - Newbury, MA - ECPv6.15.20//NONSGML v1.0//EN
CALSCALE:GREGORIAN
METHOD:PUBLISH
X-ORIGINAL-URL:https://ouldnewbury.com
X-WR-CALDESC:Events for Ould Newbury Golf Club - Newbury, MA
REFRESH-INTERVAL;VALUE=DURATION:PT1H
X-Robots-Tag:noindex
X-PUBLISHED-TTL:PT1H
BEGIN:VTIMEZONE
TZID:America/New_York
BEGIN:DAYLIGHT
TZOFFSETFROM:-0500
TZOFFSETTO:-0400
TZNAME:EDT
DTSTART:20250309T070000
END:DAYLIGHT
BEGIN:STANDARD
TZOFFSETFROM:-0400
TZOFFSETTO:-0500
TZNAME:EST
DTSTART:20251102T060000
END:STANDARD
BEGIN:DAYLIGHT
TZOFFSETFROM:-0500
TZOFFSETTO:-0400
TZNAME:EDT
DTSTART:20260308T070000
END:DAYLIGHT
BEGIN:STANDARD
TZOFFSETFROM:-0400
TZOFFSETTO:-0500
TZNAME:EST
DTSTART:20261101T060000
END:STANDARD
BEGIN:DAYLIGHT
TZOFFSETFROM:-0500
TZOFFSETTO:-0400
TZNAME:EDT
DTSTART:20270314T070000
END:DAYLIGHT
BEGIN:STANDARD
TZOFFSETFROM:-0400
TZOFFSETTO:-0500
TZNAME:EST
DTSTART:20271107T060000
END:STANDARD
END:VTIMEZONE
BEGIN:VTIMEZONE
TZID:UTC
BEGIN:STANDARD
TZOFFSETFROM:+0000
TZOFFSETTO:+0000
TZNAME:UTC
DTSTART:20250101T000000
END:STANDARD
END:VTIMEZONE
BEGIN:VEVENT
DTSTART;TZID=America/New_York:20260422T070000
DTEND;TZID=America/New_York:20260422T110000
DTSTAMP:20260422T075138
CREATED:20260303T005901Z
LAST-MODIFIED:20260303T021028Z
UID:10000617-1776841200-1776855600@ouldnewbury.com
SUMMARY:Weekday Morning Group
DESCRIPTION:Sign up by 6:45 am. 7am staggered Tee Times
URL:https://ouldnewbury.com/event/weekday-morning-group/2026-04-22/
CATEGORIES:Men's League
END:VEVENT
BEGIN:VEVENT
DTSTART;TZID=UTC:20260423T150000
DTEND;TZID=UTC:20260423T200000
DTSTAMP:20260422T075138
CREATED:20260302T221129Z
LAST-MODIFIED:20260302T221449Z
UID:10000102-1776956400-1776974400@ouldnewbury.com
SUMMARY:Thursday Night Quota League
DESCRIPTION:Thursday Night Quota League open to all members. Run by the Prop Shop.
URL:https://ouldnewbury.com/event/thursday-night-quota-league-2/2026-04-23/
CATEGORIES:Leagues,Men's League
END:VEVENT
BEGIN:VEVENT
DTSTART;TZID=America/New_York:20260423T190000
DTEND;TZID=America/New_York:20260423T200000
DTSTAMP:20260422T075138
CREATED:20250506T100043Z
LAST-MODIFIED:20260302T222038Z
UID:10000208-1776970800-1776974400@ouldnewbury.com
SUMMARY:Men's ABCD Bramble Draft
DESCRIPTION:Team draft for the April 25th ABCD Bramble
URL:https://ouldnewbury.com/event/mens-abcd-bramble-draft/
CATEGORIES:Shootout Tournaments,Social Events
END:VEVENT
BEGIN:VEVENT
DTSTART;TZID=America/New_York:20260424T070000
DTEND;TZID=America/New_York:20260424T110000
DTSTAMP:20260422T075138
CREATED:20260303T005901Z
LAST-MODIFIED:20260303T021028Z
UID:10000618-1777014000-1777028400@ouldnewbury.com
SUMMARY:Weekday Morning Group
DESCRIPTION:Sign up by 6:45 am. 7am staggered Tee Times
URL:https://ouldnewbury.com/event/weekday-morning-group/2026-04-24/
CATEGORIES:Men's League
END:VEVENT
BEGIN:VEVENT
DTSTART;TZID=UTC:20260425T070000
DTEND;TZID=UTC:20260425T120000
DTSTAMP:20260422T075138
CREATED:20250308T222121Z
LAST-MODIFIED:20260302T222719Z
UID:10000104-1777100400-1777118400@ouldnewbury.com
SUMMARY:Men's ABCD Bramble
DESCRIPTION:Men’s opening shoot-out event
URL:https://ouldnewbury.com/event/mens-abcd-bramble/
CATEGORIES:Men's Tournaments,Shootout Tournaments
END:VEVENT
BEGIN:VEVENT
DTSTART;TZID=America/New_York:20260426T070000
DTEND;TZID=America/New_York:20260426T120000
DTSTAMP:20260422T075138
CREATED:20250703T155826Z
LAST-MODIFIED:20260410T171954Z
UID:10000548-1777186800-1777204800@ouldnewbury.com
SUMMARY:Weekend Morning Group
DESCRIPTION:Sign up by 7am. Shotgun start at 7:30am
URL:https://ouldnewbury.com/event/weekend-morning-group-3/2026-04-26/
CATEGORIES:Men's League
END:VEVENT
BEGIN:VEVENT
DTSTART;TZID=America/New_York:20260427T070000
DTEND;TZID=America/New_York:20260427T110000
DTSTAMP:20260422T075138
CREATED:20260303T005901Z
LAST-MODIFIED:20260303T021028Z
UID:10000619-1777273200-1777287600@ouldnewbury.com
SUMMARY:Weekday Morning Group
DESCRIPTION:Sign up by 6:45 am. 7am staggered Tee Times
URL:https://ouldnewbury.com/event/weekday-morning-group/2026-04-27/
CATEGORIES:Men's League
END:VEVENT
BEGIN:VEVENT
DTSTART;TZID=America/New_York:20260427T150000
DTEND;TZID=America/New_York:20260427T180000
DTSTAMP:20260422T075138
CREATED:20260302T223416Z
LAST-MODIFIED:20260303T021318Z
UID:10000442-1777302000-1777312800@ouldnewbury.com
SUMMARY:Women's Quota League
DESCRIPTION:Women’s 9 Hole Quota League (Open to all Women’s Members)
URL:https://ouldnewbury.com/event/womens-quota-league-begins/2026-04-27/
CATEGORIES:Leagues,Women's League
END:VEVENT
BEGIN:VEVENT
DTSTART;TZID=America/New_York:20260428T070000
DTEND;TZID=America/New_York:20260428T120000
DTSTAMP:20260422T075138
CREATED:20260302T223732Z
LAST-MODIFIED:20260303T181642Z
UID:10000498-1777359600-1777377600@ouldnewbury.com
SUMMARY:Women's Tuesday Morning League
DESCRIPTION:Women’s 18 and 9 Hole league
URL:https://ouldnewbury.com/event/womens-tuesday-morning-league-2/2026-04-28/
CATEGORIES:Leagues,Women's League
END:VEVENT
BEGIN:VEVENT
DTSTART;TZID=UTC:20260428T150000
DTEND;TZID=UTC:20260428T180000
DTSTAMP:20260422T075138
CREATED:20260302T220148Z
LAST-MODIFIED:20260303T181741Z
UID:10000367-1777388400-1777399200@ouldnewbury.com
SUMMARY:Chip's Tuesday Night Leaugue
DESCRIPTION:Tuesday PM 9 Hole Quota League (Open to all Members)
URL:https://ouldnewbury.com/event/chips-tuesday-night-leaugue-2/2026-04-28/
CATEGORIES:Men's League
END:VEVENT
BEGIN:VEVENT
DTSTART;TZID=America/New_York:20260429T070000
DTEND;TZID=America/New_York:20260429T110000
DTSTAMP:20260422T075138
CREATED:20260303T005901Z
LAST-MODIFIED:20260303T021028Z
UID:10000620-1777446000-1777460400@ouldnewbury.com
SUMMARY:Weekday Morning Group
DESCRIPTION:Sign up by 6:45 am. 7am staggered Tee Times
URL:https://ouldnewbury.com/event/weekday-morning-group/2026-04-29/
CATEGORIES:Men's League
END:VEVENT
BEGIN:VEVENT
DTSTART;TZID=UTC:20260430T150000
DTEND;TZID=UTC:20260430T200000
DTSTAMP:20260422T075138
CREATED:20260302T221129Z
LAST-MODIFIED:20260302T221449Z
UID:10000395-1777561200-1777579200@ouldnewbury.com
SUMMARY:Thursday Night Quota League
DESCRIPTION:Thursday Night Quota League open to all members. Run by the Prop Shop.
URL:https://ouldnewbury.com/event/thursday-night-quota-league-2/2026-04-30/
CATEGORIES:Leagues,Men's League
END:VEVENT
END:VCALENDAR