BEGIN:VCALENDAR
VERSION:2.0
PRODID:-//Ould Newbury Golf Club - Newbury, MA - ECPv6.15.20//NONSGML v1.0//EN
CALSCALE:GREGORIAN
METHOD:PUBLISH
X-ORIGINAL-URL:https://ouldnewbury.com
X-WR-CALDESC:Events for Ould Newbury Golf Club - Newbury, MA
REFRESH-INTERVAL;VALUE=DURATION:PT1H
X-Robots-Tag:noindex
X-PUBLISHED-TTL:PT1H
BEGIN:VTIMEZONE
TZID:America/New_York
BEGIN:DAYLIGHT
TZOFFSETFROM:-0500
TZOFFSETTO:-0400
TZNAME:EDT
DTSTART:20240310T070000
END:DAYLIGHT
BEGIN:STANDARD
TZOFFSETFROM:-0400
TZOFFSETTO:-0500
TZNAME:EST
DTSTART:20241103T060000
END:STANDARD
BEGIN:DAYLIGHT
TZOFFSETFROM:-0500
TZOFFSETTO:-0400
TZNAME:EDT
DTSTART:20250309T070000
END:DAYLIGHT
BEGIN:STANDARD
TZOFFSETFROM:-0400
TZOFFSETTO:-0500
TZNAME:EST
DTSTART:20251102T060000
END:STANDARD
BEGIN:DAYLIGHT
TZOFFSETFROM:-0500
TZOFFSETTO:-0400
TZNAME:EDT
DTSTART:20260308T070000
END:DAYLIGHT
BEGIN:STANDARD
TZOFFSETFROM:-0400
TZOFFSETTO:-0500
TZNAME:EST
DTSTART:20261101T060000
END:STANDARD
END:VTIMEZONE
BEGIN:VEVENT
DTSTART;TZID=America/New_York:20250726T070000
DTEND;TZID=America/New_York:20250726T120000
DTSTAMP:20260422T140908
CREATED:20250309T123452Z
LAST-MODIFIED:20250309T132935Z
UID:10000170-1753513200-1753531200@ouldnewbury.com
SUMMARY:Men's Club Championship Final Match
DESCRIPTION:
URL:https://ouldnewbury.com/event/mens-club-championship-final-match/
CATEGORIES:Men's Tournaments
END:VEVENT
END:VCALENDAR