BEGIN:VCALENDAR
VERSION:2.0
PRODID:-//Ould Newbury Golf Club - Newbury, MA - ECPv6.15.20//NONSGML v1.0//EN
CALSCALE:GREGORIAN
METHOD:PUBLISH
X-ORIGINAL-URL:https://ouldnewbury.com
X-WR-CALDESC:Events for Ould Newbury Golf Club - Newbury, MA
REFRESH-INTERVAL;VALUE=DURATION:PT1H
X-Robots-Tag:noindex
X-PUBLISHED-TTL:PT1H
BEGIN:VTIMEZONE
TZID:America/New_York
BEGIN:DAYLIGHT
TZOFFSETFROM:-0500
TZOFFSETTO:-0400
TZNAME:EDT
DTSTART:20240310T070000
END:DAYLIGHT
BEGIN:STANDARD
TZOFFSETFROM:-0400
TZOFFSETTO:-0500
TZNAME:EST
DTSTART:20241103T060000
END:STANDARD
BEGIN:DAYLIGHT
TZOFFSETFROM:-0500
TZOFFSETTO:-0400
TZNAME:EDT
DTSTART:20250309T070000
END:DAYLIGHT
BEGIN:STANDARD
TZOFFSETFROM:-0400
TZOFFSETTO:-0500
TZNAME:EST
DTSTART:20251102T060000
END:STANDARD
BEGIN:DAYLIGHT
TZOFFSETFROM:-0500
TZOFFSETTO:-0400
TZNAME:EDT
DTSTART:20260308T070000
END:DAYLIGHT
BEGIN:STANDARD
TZOFFSETFROM:-0400
TZOFFSETTO:-0500
TZNAME:EST
DTSTART:20261101T060000
END:STANDARD
END:VTIMEZONE
BEGIN:VEVENT
DTSTART;TZID=America/New_York:20250721T080000
DTEND;TZID=America/New_York:20250721T120000
DTSTAMP:20260422T154524
CREATED:20250703T164207Z
LAST-MODIFIED:20250703T164209Z
UID:10000250-1753084800-1753099200@ouldnewbury.com
SUMMARY:Triton Wrestling Tournament
DESCRIPTION:8am Shotgun Start. Course Closed to Members
URL:https://ouldnewbury.com/event/triton-wrestling-tournament/
CATEGORIES:Outside Tournaments
END:VEVENT
BEGIN:VEVENT
DTSTART;TZID=America/New_York:20250721T153000
DTEND;TZID=America/New_York:20250721T180000
DTSTAMP:20260422T154524
CREATED:20250309T111805Z
LAST-MODIFIED:20250309T111809Z
UID:10000138-1753111800-1753120800@ouldnewbury.com
SUMMARY:Ladybug League
DESCRIPTION:The Women’s Ladybug League is open to all Active & Full women members who are also members of the Women’s League. See the full league description on the Women’s Golf page.
URL:https://ouldnewbury.com/event/ladybug-league/2025-07-21/
CATEGORIES:Women's League
END:VEVENT
END:VCALENDAR