BEGIN:VCALENDAR
VERSION:2.0
PRODID:-//Ould Newbury Golf Club - Newbury, MA - ECPv6.15.20//NONSGML v1.0//EN
CALSCALE:GREGORIAN
METHOD:PUBLISH
X-WR-CALNAME:Ould Newbury Golf Club - Newbury, MA
X-ORIGINAL-URL:https://ouldnewbury.com
X-WR-CALDESC:Events for Ould Newbury Golf Club - Newbury, MA
REFRESH-INTERVAL;VALUE=DURATION:PT1H
X-Robots-Tag:noindex
X-PUBLISHED-TTL:PT1H
BEGIN:VTIMEZONE
TZID:America/New_York
BEGIN:DAYLIGHT
TZOFFSETFROM:-0500
TZOFFSETTO:-0400
TZNAME:EDT
DTSTART:20240310T070000
END:DAYLIGHT
BEGIN:STANDARD
TZOFFSETFROM:-0400
TZOFFSETTO:-0500
TZNAME:EST
DTSTART:20241103T060000
END:STANDARD
BEGIN:DAYLIGHT
TZOFFSETFROM:-0500
TZOFFSETTO:-0400
TZNAME:EDT
DTSTART:20250309T070000
END:DAYLIGHT
BEGIN:STANDARD
TZOFFSETFROM:-0400
TZOFFSETTO:-0500
TZNAME:EST
DTSTART:20251102T060000
END:STANDARD
BEGIN:DAYLIGHT
TZOFFSETFROM:-0500
TZOFFSETTO:-0400
TZNAME:EDT
DTSTART:20260308T070000
END:DAYLIGHT
BEGIN:STANDARD
TZOFFSETFROM:-0400
TZOFFSETTO:-0500
TZNAME:EST
DTSTART:20261101T060000
END:STANDARD
END:VTIMEZONE
BEGIN:VTIMEZONE
TZID:UTC
BEGIN:STANDARD
TZOFFSETFROM:+0000
TZOFFSETTO:+0000
TZNAME:UTC
DTSTART:20240101T000000
END:STANDARD
END:VTIMEZONE
BEGIN:VEVENT
DTSTART;TZID=America/New_York:20250717T083000
DTEND;TZID=America/New_York:20250717T090000
DTSTAMP:20260422T123322
CREATED:20250703T173629Z
LAST-MODIFIED:20250703T173631Z
UID:10000253-1752741000-1752742800@ouldnewbury.com
SUMMARY:North Shore Women's League
DESCRIPTION:Open play around this tournament
URL:https://ouldnewbury.com/event/north-shore-womens-league/
CATEGORIES:Outside Tournaments
END:VEVENT
BEGIN:VEVENT
DTSTART;TZID=UTC:20250717T150000
DTEND;TZID=UTC:20250717T200000
DTSTAMP:20260422T123322
CREATED:20250308T221128Z
LAST-MODIFIED:20250309T212016Z
UID:10000092-1752764400-1752782400@ouldnewbury.com
SUMMARY:Thursday Night Quota League
DESCRIPTION:Thursday Night Quota League open to all members. Run by the Prop Shop.
URL:https://ouldnewbury.com/event/mens-thursday-night-quota-league/2025-07-17/
CATEGORIES:Leagues,Men's League
END:VEVENT
END:VCALENDAR